BEGIN:VCALENDAR
VERSION:2.0
PRODID:-//Gateway Psychology - ECPv6.15.15//NONSGML v1.0//EN
CALSCALE:GREGORIAN
METHOD:PUBLISH
X-WR-CALNAME:Gateway Psychology
X-ORIGINAL-URL:https://www.gateway-psychology.co.uk
X-WR-CALDESC:Events for Gateway Psychology
REFRESH-INTERVAL;VALUE=DURATION:PT1H
X-Robots-Tag:noindex
X-PUBLISHED-TTL:PT1H
BEGIN:VTIMEZONE
TZID:Europe/London
BEGIN:DAYLIGHT
TZOFFSETFROM:+0000
TZOFFSETTO:+0100
TZNAME:BST
DTSTART:20250330T010000
END:DAYLIGHT
BEGIN:STANDARD
TZOFFSETFROM:+0100
TZOFFSETTO:+0000
TZNAME:GMT
DTSTART:20251026T010000
END:STANDARD
BEGIN:DAYLIGHT
TZOFFSETFROM:+0000
TZOFFSETTO:+0100
TZNAME:BST
DTSTART:20260329T010000
END:DAYLIGHT
BEGIN:STANDARD
TZOFFSETFROM:+0100
TZOFFSETTO:+0000
TZNAME:GMT
DTSTART:20261025T010000
END:STANDARD
BEGIN:DAYLIGHT
TZOFFSETFROM:+0000
TZOFFSETTO:+0100
TZNAME:BST
DTSTART:20270328T010000
END:DAYLIGHT
BEGIN:STANDARD
TZOFFSETFROM:+0100
TZOFFSETTO:+0000
TZNAME:GMT
DTSTART:20271031T010000
END:STANDARD
END:VTIMEZONE
BEGIN:VEVENT
DTSTART;TZID=Europe/London:20260615T093000
DTEND;TZID=Europe/London:20260615T163000
DTSTAMP:20260420T033406
CREATED:20251110T160237Z
LAST-MODIFIED:20251110T160412Z
UID:3404-1781515800-1781541000@www.gateway-psychology.co.uk
SUMMARY:Understanding Blocked Care Training for Professionals (June 2026)
DESCRIPTION:This one-day course for professionals working with adoptive parents\, SGO carers or foster carers who may be at risk of or currently experiencing blocked care. It is designed to provide an understanding of the theory and research behind the brain science of blocked care\, as well as strategies for assessing blocked care and supporting parents/carers. \nPurchase Your Ticket\nTraining details:\nDate: 15 June 2026 \nTime: 9:30-16:30 (with 1 hour for lunch) \nHours: 6 hours \nCourse code: UBCJUN04 \nCost: £160 + VAT per person \nApplication/payment deadline: 1 June 2026 \nPurchase Your Ticket\n\n\nBooking multiple places:\nIf you would like to buy multiple places (10+)\, please contact our training team. We would be delighted to offer you a 10% discount. \n\nWhat is our Understanding Blocked Care training?\nThis in-depth Understanding Blocked Care training course for professionals is delivered by a qualified clinician with extensive experience in working with trauma and attachment difficulties. It has been developed in-house by Gateway Psychology. The course is designed to provide attendees with an in-depth understanding of the science behind blocked care. It also helps proffessionals understand how they can assess parents/carers experiencing blocked care\, as well as how to provide robust support to them. \nIt is delivered online via Zoom. \nWho is it suitable for?\nThis training programme is suitable for social workers\, support workers\, clinicians and other professionals working with children and young people who have experienced trauma. \nPlease note that this course is not suitable for parents/carers. \nHow to apply:\nPlease purchase your ticket for this programme using the link above. \nIf you wish to bulk-book places on this programme\, we may be able to consider a discount. Please contact us to discuss further. \nTerms and conditions\nSpaces are allocated on a first-come-first-served basis. The application form reserves a place on our list\, and the payment confirms the place. We cannot confirm a place without payment\, which must be received by the funding deadline. If we receive payment after the deadline\, we cannot guarantee that you will be able to attend the course. \nPlease note that spaces are charged per person and not per household. Unregistered participants will be asked to leave the course. If we do not receive all payments by the deadline\, we may cancel the course. \nWe may also cancel the course if we do not receive enough applications by the deadline. We require a minimum number of participants for the course to go ahead. \nIf you choose not to attend after payment is made and the funding deadline has passed\, this is classed as a late-notice cancellation and we will not be able to offer a refund.
URL:https://www.gateway-psychology.co.uk/event/understanding-blocked-care-training-for-professionals-june-2026/
LOCATION:Virtual\, United Kingdom
CATEGORIES:Professionals
ATTACH;FMTTYPE=image/jpeg:https://www.gateway-psychology.co.uk/wp-content/uploads/2023/06/sad-adult-man-in-blue-jeans-sitting-on-grey-sofa-a-2021-09-01-14-45-13-utc-scaled.jpg
ORGANIZER;CN="Gateway Psychology Training":MAILTO:training@gateway-psychology.co.uk
END:VEVENT
END:VCALENDAR